BEGIN:VCALENDAR
VERSION:2.0
PRODID:-//The Interiors Association - ECPv4.6.2//NONSGML v1.0//EN
CALSCALE:GREGORIAN
METHOD:PUBLISH
X-WR-CALNAME:The Interiors Association
X-ORIGINAL-URL:http://theinteriorsassociation.ie
X-WR-CALDESC:Events for The Interiors Association
BEGIN:VEVENT
DTSTART;TZID=Europe/Dublin:20171024T100000
DTEND;TZID=Europe/Dublin:20171024T160000
DTSTAMP:20171024T025923
CREATED:20170814T092857Z
LAST-MODIFIED:20170822T230709Z
UID:12837-1508839200-1508860800@theinteriorsassociation.ie
SUMMARY:Mastering Window Treatments - CWF
DESCRIPTION:Part 1 - Motorisation\n•    Electric curtain track and pole systems\n•    Electric and wire-free blind systems\n•    Solar blind systems\n•    Control systems \n•    Programming Demonstration \nPart 2 - Window Treatments\n•    Curtains\, Roman blinds and TwinTex blinds\n•    Poles\, tracks and operating mechanisms\n•    Fabric pattern repeats and calculating quantities\n•    Survey and measuring advice\n•    Child safety \nThis is limited to CWF Ltd. customers only and also limited to 15 people. Click on the link below to book online.  \nDates:   24th October 2017\nTime:    10am - 4pm\nPrice:    Free\, lunch included. \nPlaces: 15 \n
URL:http://theinteriorsassociation.ie/event/mastering-window-treatments-cwf-3/
LOCATION:Multyfarnham\, Co Westmeath\, Ireland
CATEGORIES:CPD,Event,Training
ORGANIZER;CN="Corcoran%20Window%20Furnishings":MAILTO:sales@cwf.ie
END:VEVENT
BEGIN:VEVENT
DTSTART;TZID=Europe/Dublin:20171026T093000
DTEND;TZID=Europe/Dublin:20171026T150000
DTSTAMP:20171024T025923
CREATED:20170822T232246Z
LAST-MODIFIED:20170822T232246Z
UID:12841-1509010200-1509030000@theinteriorsassociation.ie
SUMMARY:Professional Development Workshop
DESCRIPTION:Professional Development Full Day Workshop run by the Etiquette School of Ireland. \n\nBusiness Etiquette\nDining Etiquette\nPresentation Skills\nDress for Business\n\nInteriors Association Members €200\, Non Members €250 \nFurther information and bookings to Etiquette School of Ireland \nTelephone: 01 685 5895 \nEmail: info@etiquetteschoolofireland.com  \n \n
URL:http://theinteriorsassociation.ie/event/professional-development-workshop/
LOCATION:Merrion Street Upper\, Dublin 2\, Ireland
CATEGORIES:CPD,Event,presentation skills,Training
ATTACH;FMTTYPE=image/jpeg:http://theinteriorsassociation.ie/wp-content/uploads/2017/08/Cover-Photo_Fotor.jpg
ORGANIZER;CN="The%20Etiquette%20School%20of%20Ireland":MAILTO:info@etiquetteschoolofireland.com
END:VEVENT
BEGIN:VEVENT
DTSTART;VALUE=DATE:20171027
DTEND;VALUE=DATE:20171031
DTSTAMP:20171024T025923
CREATED:20170225T233357Z
LAST-MODIFIED:20170225T233357Z
UID:12622-1509062400-1509407999@theinteriorsassociation.ie
SUMMARY:Ideal Home Show - Autumn
DESCRIPTION:
URL:http://theinteriorsassociation.ie/event/ideal-home-show-autumn/
LOCATION:Simmonscourt Road\, Dublin 4\, D4\, Ireland
ATTACH;FMTTYPE=image/jpeg:http://theinteriorsassociation.ie/wp-content/uploads/2015/11/Ideal-Home-Show-logo-2016.jpg
END:VEVENT
BEGIN:VEVENT
DTSTART;TZID=Europe/Dublin:20171102T190000
DTEND;TZID=Europe/Dublin:20171102T190000
DTSTAMP:20171024T025923
CREATED:20170828T110707Z
LAST-MODIFIED:20170828T110923Z
UID:12855-1509649200-1509649200@theinteriorsassociation.ie
SUMMARY:Fit Out Awards
DESCRIPTION:The Fit Out Awards event offers an exceptional opportunity to showcase your business at its best on a large stage\, and to receive national press coverage for your company’s achievements. It also offers an unmissable opportunity to celebrate and network with the industry’s most distinguished figures. \nThe Interiors Association President\, Angela Connolly\, is judging co-ordinator again in 2017.  \nEntries are now closed but you can book a table or seat for the event on the following link  \nFit Out Awards Booking \n
URL:http://theinteriorsassociation.ie/event/fit-out-awards/
LOCATION:Burlington Road\, Ballsbridge\, Dublin\, Ireland
CATEGORIES:architecture,Awards,Event,interior design
ATTACH;FMTTYPE=image/jpeg:http://theinteriorsassociation.ie/wp-content/uploads/2011/07/Fitout-2017-Proud-Sponsor-1-e1500552508629.jpg
END:VEVENT
BEGIN:VEVENT
DTSTART;TZID=Europe/Dublin:20171123T100000
DTEND;TZID=Europe/Dublin:20171123T113000
DTSTAMP:20171024T025923
CREATED:20171011T212023Z
LAST-MODIFIED:20171011T212023Z
UID:12861-1511431200-1511436600@theinteriorsassociation.ie
SUMMARY:Contract Flooring Supplies CPD
DESCRIPTION:Details to follow \n
URL:http://theinteriorsassociation.ie/event/contract-flooring-supplies-cpd/
CATEGORIES:CPD,Event,flooring,interior design,interior design training,Networking,Training
END:VEVENT
BEGIN:VEVENT
DTSTART;TZID=Europe/Dublin:20171207T190000
DTEND;TZID=Europe/Dublin:20171207T220000
DTSTAMP:20171024T025923
CREATED:20170626T230221Z
LAST-MODIFIED:20170908T204052Z
UID:12794-1512673200-1512684000@theinteriorsassociation.ie
SUMMARY:IA Annual General Meeting
DESCRIPTION:Details to follow \n
URL:http://theinteriorsassociation.ie/event/ia-annual-general-meeting/
CATEGORIES:Event
ATTACH;FMTTYPE=image/jpeg:http://theinteriorsassociation.ie/wp-content/uploads/2017/06/IA-banner-1.jpg
END:VEVENT
END:VCALENDAR